BEGIN:VCALENDAR
VERSION:2.0
PRODID:-//Integrated Schools - ECPv6.15.20//NONSGML v1.0//EN
CALSCALE:GREGORIAN
METHOD:PUBLISH
X-WR-CALNAME:Integrated Schools
X-ORIGINAL-URL:https://integratedschools.org
X-WR-CALDESC:Events for Integrated Schools
REFRESH-INTERVAL;VALUE=DURATION:PT1H
X-Robots-Tag:noindex
X-PUBLISHED-TTL:PT1H
BEGIN:VTIMEZONE
TZID:America/Chicago
BEGIN:DAYLIGHT
TZOFFSETFROM:-0600
TZOFFSETTO:-0500
TZNAME:CDT
DTSTART:20210314T080000
END:DAYLIGHT
BEGIN:STANDARD
TZOFFSETFROM:-0500
TZOFFSETTO:-0600
TZNAME:CST
DTSTART:20211107T070000
END:STANDARD
BEGIN:DAYLIGHT
TZOFFSETFROM:-0600
TZOFFSETTO:-0500
TZNAME:CDT
DTSTART:20220313T080000
END:DAYLIGHT
BEGIN:STANDARD
TZOFFSETFROM:-0500
TZOFFSETTO:-0600
TZNAME:CST
DTSTART:20221106T070000
END:STANDARD
BEGIN:DAYLIGHT
TZOFFSETFROM:-0600
TZOFFSETTO:-0500
TZNAME:CDT
DTSTART:20230312T080000
END:DAYLIGHT
BEGIN:STANDARD
TZOFFSETFROM:-0500
TZOFFSETTO:-0600
TZNAME:CST
DTSTART:20231105T070000
END:STANDARD
END:VTIMEZONE
BEGIN:VTIMEZONE
TZID:America/Los_Angeles
BEGIN:DAYLIGHT
TZOFFSETFROM:-0800
TZOFFSETTO:-0700
TZNAME:PDT
DTSTART:20210314T100000
END:DAYLIGHT
BEGIN:STANDARD
TZOFFSETFROM:-0700
TZOFFSETTO:-0800
TZNAME:PST
DTSTART:20211107T090000
END:STANDARD
BEGIN:DAYLIGHT
TZOFFSETFROM:-0800
TZOFFSETTO:-0700
TZNAME:PDT
DTSTART:20220313T100000
END:DAYLIGHT
BEGIN:STANDARD
TZOFFSETFROM:-0700
TZOFFSETTO:-0800
TZNAME:PST
DTSTART:20221106T090000
END:STANDARD
BEGIN:DAYLIGHT
TZOFFSETFROM:-0800
TZOFFSETTO:-0700
TZNAME:PDT
DTSTART:20230312T100000
END:DAYLIGHT
BEGIN:STANDARD
TZOFFSETFROM:-0700
TZOFFSETTO:-0800
TZNAME:PST
DTSTART:20231105T090000
END:STANDARD
END:VTIMEZONE
BEGIN:VTIMEZONE
TZID:America/Denver
BEGIN:DAYLIGHT
TZOFFSETFROM:-0700
TZOFFSETTO:-0600
TZNAME:MDT
DTSTART:20210314T090000
END:DAYLIGHT
BEGIN:STANDARD
TZOFFSETFROM:-0600
TZOFFSETTO:-0700
TZNAME:MST
DTSTART:20211107T080000
END:STANDARD
BEGIN:DAYLIGHT
TZOFFSETFROM:-0700
TZOFFSETTO:-0600
TZNAME:MDT
DTSTART:20220313T090000
END:DAYLIGHT
BEGIN:STANDARD
TZOFFSETFROM:-0600
TZOFFSETTO:-0700
TZNAME:MST
DTSTART:20221106T080000
END:STANDARD
BEGIN:DAYLIGHT
TZOFFSETFROM:-0700
TZOFFSETTO:-0600
TZNAME:MDT
DTSTART:20230312T090000
END:DAYLIGHT
BEGIN:STANDARD
TZOFFSETFROM:-0600
TZOFFSETTO:-0700
TZNAME:MST
DTSTART:20231105T080000
END:STANDARD
END:VTIMEZONE
BEGIN:VTIMEZONE
TZID:America/New_York
BEGIN:DAYLIGHT
TZOFFSETFROM:-0500
TZOFFSETTO:-0400
TZNAME:EDT
DTSTART:20210314T070000
END:DAYLIGHT
BEGIN:STANDARD
TZOFFSETFROM:-0400
TZOFFSETTO:-0500
TZNAME:EST
DTSTART:20211107T060000
END:STANDARD
BEGIN:DAYLIGHT
TZOFFSETFROM:-0500
TZOFFSETTO:-0400
TZNAME:EDT
DTSTART:20220313T070000
END:DAYLIGHT
BEGIN:STANDARD
TZOFFSETFROM:-0400
TZOFFSETTO:-0500
TZNAME:EST
DTSTART:20221106T060000
END:STANDARD
BEGIN:DAYLIGHT
TZOFFSETFROM:-0500
TZOFFSETTO:-0400
TZNAME:EDT
DTSTART:20230312T070000
END:DAYLIGHT
BEGIN:STANDARD
TZOFFSETFROM:-0400
TZOFFSETTO:-0500
TZNAME:EST
DTSTART:20231105T060000
END:STANDARD
END:VTIMEZONE
BEGIN:VTIMEZONE
TZID:UTC
BEGIN:STANDARD
TZOFFSETFROM:+0000
TZOFFSETTO:+0000
TZNAME:UTC
DTSTART:20210101T000000
END:STANDARD
END:VTIMEZONE
BEGIN:VEVENT
DTSTART;TZID=America/Chicago:20220519T193000
DTEND;TZID=America/Chicago:20220519T203000
DTSTAMP:20260419T230317
CREATED:20220518T002725Z
LAST-MODIFIED:20220518T002725Z
UID:10000036-1652988600-1652992200@integratedschools.org
SUMMARY:St. Paul Chapter Meeting
DESCRIPTION:Use the contact form for more info!
URL:https://integratedschools.org/event/st-paul-chapter-meeting/
LOCATION:Online Event
CATEGORIES:St. Paul, MN
END:VEVENT
BEGIN:VEVENT
DTSTART;TZID=America/Los_Angeles:20220515T100000
DTEND;TZID=America/Los_Angeles:20220515T120000
DTSTAMP:20260419T230317
CREATED:20220501T000243Z
LAST-MODIFIED:20220502T111901Z
UID:10000034-1652608800-1652616000@integratedschools.org
SUMMARY:Seattle Chapter Meeting - IN PERSON!!
DESCRIPTION:I’m so thrilled to invite the group to our first in-person meeting in TWO YEARS! \nPlease join me at Othello Park on Sunday\, May 15th from 10-12. I’ll bring a carafe of Starbucks and the grown-ups can hang out while the kids take advantage of the great playground and basketball courts. (But feel free to come kid-less\, if you prefer!) \nThere’s been a great thread in our Facebook about how White and/or privileged families show up at global majority schools\, so feel free to bring questions\, suggestions\, or horror stories on that topic. \nI’m excited to meet new members and catch up with familiar faces after a long time apart!
URL:https://integratedschools.org/event/seattle-chapter-meeting-in-person/
LOCATION:Othello Park\, 4351 S Othello St\, Seattle\, WA\, 98118\, United States
CATEGORIES:Seattle, WA
END:VEVENT
BEGIN:VEVENT
DTSTART;TZID=America/Denver:20220514T150000
DTEND;TZID=America/Denver:20220514T170000
DTSTAMP:20260419T230317
CREATED:20220501T000742Z
LAST-MODIFIED:20220501T000742Z
UID:10000035-1652540400-1652547600@integratedschools.org
SUMMARY:Denver Chapter Picnic!!
DESCRIPTION:Please join us Saturday\, May 14th from 3-5p. Bring your family\, a snack or beverage to share if you’d like\, and meet us at Jefferson Park for however long you can join us! We’ll be at the picnic area next to the playground on the east side of the park\, closer to Clay St. 
URL:https://integratedschools.org/event/denver-chapter-picnic/
LOCATION:jefferson Park\, Jefferson Park\, Denver\, CO\, 80211\, United States
CATEGORIES:Denver CO
END:VEVENT
BEGIN:VEVENT
DTSTART;TZID=America/Chicago:20220511T200000
DTEND;TZID=America/Chicago:20220511T213000
DTSTAMP:20260419T230317
CREATED:20220323T085608Z
LAST-MODIFIED:20220326T093821Z
UID:10000028-1652299200-1652304600@integratedschools.org
SUMMARY:Minneapolis Chapter Workout Groups - PM
DESCRIPTION:For details\, contact our chapter.
URL:https://integratedschools.org/event/minneapolis-chapter-workout-groups-pm/2022-05-11/
LOCATION:Zoom
END:VEVENT
BEGIN:VEVENT
DTSTART;TZID=America/Chicago:20220511T090000
DTEND;TZID=America/Chicago:20220511T103000
DTSTAMP:20260419T230317
CREATED:20220323T085439Z
LAST-MODIFIED:20220326T093555Z
UID:10000025-1652259600-1652265000@integratedschools.org
SUMMARY:Minneapolis Chapter Workout Group - AM
DESCRIPTION:For details\, contact our chapter.
URL:https://integratedschools.org/event/minneapolis-chapter-workout-group-am/2022-05-11/
LOCATION:Zoom
CATEGORIES:Minneapolis, MN
END:VEVENT
BEGIN:VEVENT
DTSTART;TZID=America/New_York:20220426T200000
DTEND;TZID=America/New_York:20220426T210000
DTSTAMP:20260419T230317
CREATED:20220422T015258Z
LAST-MODIFIED:20220422T015258Z
UID:10000033-1651003200-1651006800@integratedschools.org
SUMMARY:IS Columbus - Chapter Meeting
DESCRIPTION:For details – fill out the contact form.
URL:https://integratedschools.org/event/is-columbus-chapter-meeting/
LOCATION:Online Event
CATEGORIES:Columbus, OH
END:VEVENT
BEGIN:VEVENT
DTSTART;TZID=America/Chicago:20220421T193000
DTEND;TZID=America/Chicago:20220421T203000
DTSTAMP:20260419T230317
CREATED:20220420T233404Z
LAST-MODIFIED:20220420T233404Z
UID:10000032-1650569400-1650573000@integratedschools.org
SUMMARY:IS St. Paul - Chapter Meeting
DESCRIPTION:use the contact form for details
URL:https://integratedschools.org/event/is-st-paul-chapter-meeting/
LOCATION:Online Event
CATEGORIES:St. Paul, MN
END:VEVENT
BEGIN:VEVENT
DTSTART;TZID=America/Chicago:20220413T200000
DTEND;TZID=America/Chicago:20220413T213000
DTSTAMP:20260419T230317
CREATED:20220323T085608Z
LAST-MODIFIED:20220326T093821Z
UID:10000027-1649880000-1649885400@integratedschools.org
SUMMARY:Minneapolis Chapter Workout Groups - PM
DESCRIPTION:For details\, contact our chapter.
URL:https://integratedschools.org/event/minneapolis-chapter-workout-groups-pm/2022-04-13/
LOCATION:Zoom
END:VEVENT
BEGIN:VEVENT
DTSTART;TZID=America/Chicago:20220413T090000
DTEND;TZID=America/Chicago:20220413T103000
DTSTAMP:20260419T230317
CREATED:20220323T085439Z
LAST-MODIFIED:20220326T093555Z
UID:10000024-1649840400-1649845800@integratedschools.org
SUMMARY:Minneapolis Chapter Workout Group - AM
DESCRIPTION:For details\, contact our chapter.
URL:https://integratedschools.org/event/minneapolis-chapter-workout-group-am/2022-04-13/
LOCATION:Zoom
CATEGORIES:Minneapolis, MN
END:VEVENT
BEGIN:VEVENT
DTSTART;TZID=America/Los_Angeles:20220412T090000
DTEND;TZID=America/Los_Angeles:20220412T103000
DTSTAMP:20260419T230317
CREATED:20220323T085650Z
LAST-MODIFIED:20220326T093113Z
UID:10000030-1649754000-1649759400@integratedschools.org
SUMMARY:IS Caregiver Board Meeting
DESCRIPTION:
URL:https://integratedschools.org/event/is-caregiver-board-meeting/
LOCATION:CO
END:VEVENT
BEGIN:VEVENT
DTSTART;TZID=America/New_York:20220329T200000
DTEND;TZID=America/New_York:20220329T210000
DTSTAMP:20260419T230317
CREATED:20220326T092556Z
LAST-MODIFIED:20220326T092556Z
UID:10000031-1648584000-1648587600@integratedschools.org
SUMMARY:Columbus Chapter Meeting
DESCRIPTION:Use the contact form for more info.
URL:https://integratedschools.org/event/columbus-chapter-meeting/
LOCATION:Online Event
CATEGORIES:Columbus, OH
END:VEVENT
BEGIN:VEVENT
DTSTART;TZID=America/New_York:20220329T193000
DTEND;TZID=America/New_York:20220329T203000
DTSTAMP:20260419T230317
CREATED:20220323T085352Z
LAST-MODIFIED:20220326T094116Z
UID:10000022-1648582200-1648585800@integratedschools.org
SUMMARY:IS NYC Chapter Meeting
DESCRIPTION:To get a link – contact our chapter.
URL:https://integratedschools.org/event/is-nyc-chapter-meeting/
LOCATION:CO
CATEGORIES:New York City
END:VEVENT
BEGIN:VEVENT
DTSTART;TZID=UTC:20220324T100000
DTEND;TZID=UTC:20220324T150000
DTSTAMP:20260419T230317
CREATED:20220323T084906Z
LAST-MODIFIED:20220323T090824Z
UID:10000021-1648116000-1648134000@integratedschools.org
SUMMARY:IS Podcast Happy Hour
DESCRIPTION:Join our Patreon for access!
URL:https://integratedschools.org/event/is-podcast-happy-hour/
LOCATION:CO
CATEGORIES:National
ORGANIZER;CN="Andrew Lefkowits":MAILTO:andrew@lefkowits.com
END:VEVENT
BEGIN:VEVENT
DTSTART;TZID=America/Chicago:20220323T090000
DTEND;TZID=America/Chicago:20220323T103000
DTSTAMP:20260419T230317
CREATED:20220323T085439Z
LAST-MODIFIED:20220326T093555Z
UID:10000023-1648026000-1648031400@integratedschools.org
SUMMARY:Minneapolis Chapter Workout Group - AM
DESCRIPTION:For details\, contact our chapter.
URL:https://integratedschools.org/event/minneapolis-chapter-workout-group-am/2022-03-23/
LOCATION:Zoom
CATEGORIES:Minneapolis, MN
END:VEVENT
END:VCALENDAR