BEGIN:VCALENDAR
VERSION:2.0
PRODID:-//Integrated Schools - ECPv6.15.20//NONSGML v1.0//EN
CALSCALE:GREGORIAN
METHOD:PUBLISH
X-ORIGINAL-URL:https://integratedschools.org
X-WR-CALDESC:Events for Integrated Schools
REFRESH-INTERVAL;VALUE=DURATION:PT1H
X-Robots-Tag:noindex
X-PUBLISHED-TTL:PT1H
BEGIN:VTIMEZONE
TZID:America/New_York
BEGIN:DAYLIGHT
TZOFFSETFROM:-0500
TZOFFSETTO:-0400
TZNAME:EDT
DTSTART:20240310T070000
END:DAYLIGHT
BEGIN:STANDARD
TZOFFSETFROM:-0400
TZOFFSETTO:-0500
TZNAME:EST
DTSTART:20241103T060000
END:STANDARD
BEGIN:DAYLIGHT
TZOFFSETFROM:-0500
TZOFFSETTO:-0400
TZNAME:EDT
DTSTART:20250309T070000
END:DAYLIGHT
BEGIN:STANDARD
TZOFFSETFROM:-0400
TZOFFSETTO:-0500
TZNAME:EST
DTSTART:20251102T060000
END:STANDARD
BEGIN:DAYLIGHT
TZOFFSETFROM:-0500
TZOFFSETTO:-0400
TZNAME:EDT
DTSTART:20260308T070000
END:DAYLIGHT
BEGIN:STANDARD
TZOFFSETFROM:-0400
TZOFFSETTO:-0500
TZNAME:EST
DTSTART:20261101T060000
END:STANDARD
END:VTIMEZONE
BEGIN:VTIMEZONE
TZID:UTC
BEGIN:STANDARD
TZOFFSETFROM:+0000
TZOFFSETTO:+0000
TZNAME:UTC
DTSTART:20240101T000000
END:STANDARD
END:VTIMEZONE
BEGIN:VTIMEZONE
TZID:America/Los_Angeles
BEGIN:DAYLIGHT
TZOFFSETFROM:-0800
TZOFFSETTO:-0700
TZNAME:PDT
DTSTART:20250309T100000
END:DAYLIGHT
BEGIN:STANDARD
TZOFFSETFROM:-0700
TZOFFSETTO:-0800
TZNAME:PST
DTSTART:20251102T090000
END:STANDARD
BEGIN:DAYLIGHT
TZOFFSETFROM:-0800
TZOFFSETTO:-0700
TZNAME:PDT
DTSTART:20260308T100000
END:DAYLIGHT
BEGIN:STANDARD
TZOFFSETFROM:-0700
TZOFFSETTO:-0800
TZNAME:PST
DTSTART:20261101T090000
END:STANDARD
BEGIN:DAYLIGHT
TZOFFSETFROM:-0800
TZOFFSETTO:-0700
TZNAME:PDT
DTSTART:20270314T100000
END:DAYLIGHT
BEGIN:STANDARD
TZOFFSETFROM:-0700
TZOFFSETTO:-0800
TZNAME:PST
DTSTART:20271107T090000
END:STANDARD
END:VTIMEZONE
BEGIN:VEVENT
DTSTART;TZID=America/New_York:20250614T110000
DTEND;TZID=America/New_York:20250614T160000
DTSTAMP:20260422T155113
CREATED:20250606T074830Z
LAST-MODIFIED:20250606T074830Z
UID:10000053-1749898800-1749916800@integratedschools.org
SUMMARY:Meet & Greet at Hamden Fest
DESCRIPTION:
URL:https://integratedschools.org/event/meet-greet-at-hamden-fest/
LOCATION:Hamden Town Center Park\, 2761 Dixwell Ave\, Hamden\, CT\, 06518\, United States
CATEGORIES:Hamden, CT
END:VEVENT
BEGIN:VEVENT
DTSTART;TZID=UTC:20250807T190000
DTEND;TZID=UTC:20250807T210000
DTSTAMP:20260422T155113
CREATED:20250717T224031Z
LAST-MODIFIED:20250717T224031Z
UID:10000054-1754593200-1754600400@integratedschools.org
SUMMARY:Hamden Summer Meetup!
DESCRIPTION:
URL:https://integratedschools.org/event/hamden-summer-meetup/
LOCATION:Mazorca Mexican Restaurant\, 1537 Dixwell Ave\, Hamden\, CT\, 06514\, United States
CATEGORIES:Hamden, CT
ATTACH;FMTTYPE=image/jpeg:https://integratedschools.org/wp-content/uploads/hamden_summer_meetup__1_.jpg
END:VEVENT
BEGIN:VEVENT
DTSTART;TZID=UTC:20251210T190000
DTEND;TZID=UTC:20251210T200000
DTSTAMP:20260422T155113
CREATED:20251108T032615Z
LAST-MODIFIED:20251110T172729Z
UID:10000055-1765393200-1765396800@integratedschools.org
SUMMARY:IS Colorado - School Choice Workshop
DESCRIPTION:It’s School Choice Season and the Denver Chapter is bringing back our IS School Choice Forums! \nThese forums offer a fresh\, equity-centered approach to choosing schools. Together\, we’ll: \n\nReconsider what makes a “good” school.\nExplore the school choice process through an equity lens.\nReflect on how we’ll “show up” and engage in whichever school community we choose.\n\nFor more\, check out this article from CPR.
URL:https://integratedschools.org/event/is-colorado-school-choice-workshop/
LOCATION:Online Event
CATEGORIES:Denver CO
END:VEVENT
BEGIN:VEVENT
DTSTART;TZID=UTC:20251212T120000
DTEND;TZID=UTC:20251212T130000
DTSTAMP:20260422T155113
CREATED:20251110T171031Z
LAST-MODIFIED:20251110T172756Z
UID:10000056-1765540800-1765544400@integratedschools.org
SUMMARY:IS Colorado - School Choice Workshop
DESCRIPTION:It’s School Choice Season and the Denver Chapter is bringing back our IS School Choice Forums! \nThese forums offer a fresh\, equity-centered approach to choosing schools. Together\, we’ll: \n\nReconsider what makes a “good” school.\nExplore the school choice process through an equity lens.\nReflect on how we’ll “show up” and engage in whichever school community we choose.\n\nFor more\, check out this article from CPR.
URL:https://integratedschools.org/event/is-colorado-school-choice-workshop-2/
LOCATION:Online Event
CATEGORIES:Denver CO
END:VEVENT
BEGIN:VEVENT
DTSTART;TZID=America/Los_Angeles:20260110T083000
DTEND;TZID=America/Los_Angeles:20260110T100000
DTSTAMP:20260422T155113
CREATED:20251118T023426Z
LAST-MODIFIED:20251118T023619Z
UID:10000057-1768033800-1768039200@integratedschools.org
SUMMARY:IS Colorado School Choice Workshop
DESCRIPTION:It’s School Choice Season and the Denver Chapter is bringing back our IS School Choice Forums! \nThese informal gathering will provide the chance to talk about an  equity-centered approach to choosing schools. \nWe’ll chat about: \n\nReconsider what makes a “good” school.\nExplore the school choice process through an equity lens.\nReflect on how we’ll “show up” and engage in whichever school community we choose.\n\nFor more\, check out this article from CPR.
URL:https://integratedschools.org/event/is-colorado-school-choice-workshop-3/
LOCATION:Prodigy Coffee Shop\, 3801 E 40th Ave\, Denver\, CO\, 80205\, United States
CATEGORIES:Denver CO
END:VEVENT
BEGIN:VEVENT
DTSTART;TZID=America/Los_Angeles:20260319T193000
DTEND;TZID=America/Los_Angeles:20260319T210000
DTSTAMP:20260422T155113
CREATED:20260305T232315Z
LAST-MODIFIED:20260305T232315Z
UID:10000058-1773948600-1773954000@integratedschools.org
SUMMARY:Integrated School - Denver: Book Club - Calling In by Loretta Ross
DESCRIPTION:Date: Thursday\, March 19th\nTime: 7:30pm – 9:00pm (It’s ok if you show up at 8\, this gives us a little time to chat before we dive in)\nWhere: Zoom (fill out the form to get the link)\nWhat: Prologue and first chapter of Calling In: How to Start Making Change with Those You’d Rather Cancel \nBuy the book from our Bookshop.org store front to support local bookstores and send a portion of the proceeds back to Integrated Schools \nRegister here!
URL:https://integratedschools.org/event/integrated-school-denver-book-club-calling-in-by-loretta-ross/
LOCATION:Online Event
CATEGORIES:Denver CO
END:VEVENT
BEGIN:VEVENT
DTSTART;TZID=America/Los_Angeles:20260422T190000
DTEND;TZID=America/Los_Angeles:20260422T203000
DTSTAMP:20260422T155113
CREATED:20260403T174852Z
LAST-MODIFIED:20260403T174852Z
UID:10000059-1776884400-1776889800@integratedschools.org
SUMMARY:Pasadena Chapter organizing meeting
DESCRIPTION:The Pasadena Chapter of Integrated Schools will meet via Zoom to set chapter goals and meeting schedule. Contact chapter for Zoom link.
URL:https://integratedschools.org/event/pasadena-chapter-organizing-meeting/
LOCATION:Online Event
ORGANIZER;CN="Pasadena Chapter":MAILTO:susan@penfamilies.org
END:VEVENT
END:VCALENDAR