BEGIN:VCALENDAR
VERSION:2.0
PRODID:-//Integrated Schools - ECPv6.15.20//NONSGML v1.0//EN
CALSCALE:GREGORIAN
METHOD:PUBLISH
X-WR-CALNAME:Integrated Schools
X-ORIGINAL-URL:https://integratedschools.org
X-WR-CALDESC:Events for Integrated Schools
REFRESH-INTERVAL;VALUE=DURATION:PT1H
X-Robots-Tag:noindex
X-PUBLISHED-TTL:PT1H
BEGIN:VTIMEZONE
TZID:UTC
BEGIN:STANDARD
TZOFFSETFROM:+0000
TZOFFSETTO:+0000
TZNAME:UTC
DTSTART:20240101T000000
END:STANDARD
END:VTIMEZONE
BEGIN:VEVENT
DTSTART;TZID=UTC:20250313T183000
DTEND;TZID=UTC:20250313T200000
DTSTAMP:20260422T031634
CREATED:20250305T111208Z
LAST-MODIFIED:20250305T111313Z
UID:10000050-1741890600-1741896000@integratedschools.org
SUMMARY:Hamden Book Discussion
DESCRIPTION:Join us to discuss Dr. Beverly Daniel-Tatum’s book\, Why Are All the Black Kids Sitting Together in the Cafeteria. \nFor more info – email hamdenactionnow@gmail.com
URL:https://integratedschools.org/event/hamden-book-discussion/2025-03-13/
LOCATION:Whitneyville Branch Library\, 125 Carlton St\, Hamden\, CT\, United States
CATEGORIES:Hamden, CT
END:VEVENT
BEGIN:VEVENT
DTSTART;TZID=UTC:20250320T190000
DTEND;TZID=UTC:20250320T200000
DTSTAMP:20260422T031634
CREATED:20250305T111556Z
LAST-MODIFIED:20250305T111556Z
UID:10000052-1742497200-1742500800@integratedschools.org
SUMMARY:Education Funding 101 Workshop
DESCRIPTION:This will be a virtual workshop to help us all understand how our schools are funded.  Email us for details.
URL:https://integratedschools.org/event/education-funding-101-workshop/
LOCATION:Online Event
CATEGORIES:Hamden, CT
END:VEVENT
END:VCALENDAR